BEGIN:VCALENDAR
VERSION:2.0
PRODID:-//Jazz sur le Grill ! - ECPv5.12.3//NONSGML v1.0//EN
CALSCALE:GREGORIAN
METHOD:PUBLISH
X-WR-CALNAME:Jazz sur le Grill !
X-ORIGINAL-URL:https://jazzsurlegrill.com
X-WR-CALDESC:évènements pour Jazz sur le Grill !
REFRESH-INTERVAL;VALUE=DURATION:PT1H
X-Robots-Tag:noindex
X-PUBLISHED-TTL:PT1H
BEGIN:VTIMEZONE
TZID:Europe/Paris
BEGIN:DAYLIGHT
TZOFFSETFROM:+0100
TZOFFSETTO:+0200
TZNAME:CEST
DTSTART:20240331T010000
END:DAYLIGHT
BEGIN:STANDARD
TZOFFSETFROM:+0200
TZOFFSETTO:+0100
TZNAME:CET
DTSTART:20241027T010000
END:STANDARD
END:VTIMEZONE
BEGIN:VEVENT
DTSTART;TZID=Europe/Paris:20241121T141500
DTEND;TZID=Europe/Paris:20241121T213000
DTSTAMP:20260424T232701
CREATED:20240912T121715Z
LAST-MODIFIED:20240912T122053Z
UID:1613-1732198500-1732224600@jazzsurlegrill.com
SUMMARY:Animal Image - autour du festival | ciné-concert
DESCRIPTION:Un voyage au cœur du grand Nord sauvage.\nVerneri Pohjola\, Mika Kallio et Sylvain Rifflet réimprovisent en direct la bande-son qu’ils ont composée pour l’énigmatique film de Perttu Saksa. \n\nUn léger courant d’eau trouble la tranquillité des icebergs\, le vent se faufile entre les plumes d’un oiseau flottant au gré des courants aériens\, les flocons de neige s’emmêlent à la crinière d’un cheval sauvage : le film tourné par le photographe et réalisateur finlandais Perttu Saksa saisit avec une rare délicatesse la beauté éthérée du Grand Nord. Plans serrés alternant paysages monumentaux\, la nature semble au plus près de nous. Et pourtant elle ne devient jamais familière : le grain de l’image et le choix du noir et blanc la tient à distance\, lui conférant une dimension quasi mythologique. Pour ce ciné-concert\, le duo emblématique de la nouvelle scène de jazz finlandaise formé par Verneri Pohjola et Mika Kallio\, accompagné du saxophoniste français Sylvain Rifflet\, improvisent en direct à partir de la bande-son qu’ils ont créée. Voyage immobile à travers l’immensité de l’Arctique\, Animal Image est une expérience aussi sensorielle que contemplative. \n  \nDurée 1h \nJeudi 21/11/2024 à 14h15 \nJeudi 21/11/2024 à 20h30
URL:https://jazzsurlegrill.com/event/animal-image-autour-du-festival-cine-concert/
LOCATION:Lux\, 36 boulevard Général de Gaulle\, Valence
CATEGORIES:Cinéma,Concert,Evénement
ATTACH;FMTTYPE=image/jpeg:https://jazzsurlegrill.com/wp-content/uploads/2024/09/Lux.jpg
END:VEVENT
BEGIN:VEVENT
DTSTART;TZID=Europe/Paris:20241121T190000
DTEND;TZID=Europe/Paris:20241121T200000
DTSTAMP:20260424T232701
CREATED:20240912T123810Z
LAST-MODIFIED:20241008T104349Z
UID:1616-1732215600-1732219200@jazzsurlegrill.com
SUMMARY:Love of life
DESCRIPTION:Une œuvre sensible inspirée par Jack London\n \n« J’ai découvert Jacques London assez tard\, en automne 2016 : d’abord\, les Chroniques des mers du Sud puis l’initiatique et incontournable Martin Eden. \nL’œuvre dense et souvent autobiographique de cet écrivain américain\, si riche et si puissante\, n’a alors cessé de me suivre\, d’accompagner mon quotidien\, mes voyages et donc la musique que je joue. C’est bien là\, j’imagine\, la véritable force de Jack London : une sensible et intime faculté d’avec ses vies de rencontrer la nôtre\, de devenir cet ami\, cet ancêtre éloigné\, ce frangin\, ce camarade de qui chaque jour on attend de nouveaux récits. \nLove of life\, The road\, To build a fire\, The sea wolf\, The dream of debs\, Goliah\, ou encore The south of slot\, autant de nouvelles\, romans et recueils qui ont inspiré directement un nouveau répertoire pour célébrer le septième anniversaire de mon trio\, lui offrant le plaisir à son tour de partager et de raconter. \nVincent Courtois \n  \nVincent Courtois : violoncelle\, composition ; Daniel Erdmann & Robin Fincker : saxophones tenor
URL:https://jazzsurlegrill.com/event/love-of-life/
LOCATION:Jazz Action Valence\, Maison de la Musique et de la danse · 32 avenue Georges Clémenceau\, Valence\, 26000
CATEGORIES:Concert,Evénement
ATTACH;FMTTYPE=image/jpeg:https://jazzsurlegrill.com/wp-content/uploads/2024/09/Courtois-Erdmann-Fincker-credit-Loic-Vincent.jpg
END:VEVENT
END:VCALENDAR