BEGIN:VCALENDAR
VERSION:2.0
PRODID:-//Jazz sur le Grill ! - ECPv5.12.3//NONSGML v1.0//EN
CALSCALE:GREGORIAN
METHOD:PUBLISH
X-WR-CALNAME:Jazz sur le Grill !
X-ORIGINAL-URL:https://jazzsurlegrill.com
X-WR-CALDESC:évènements pour Jazz sur le Grill !
REFRESH-INTERVAL;VALUE=DURATION:PT1H
X-Robots-Tag:noindex
X-PUBLISHED-TTL:PT1H
BEGIN:VTIMEZONE
TZID:Europe/Paris
BEGIN:DAYLIGHT
TZOFFSETFROM:+0100
TZOFFSETTO:+0200
TZNAME:CEST
DTSTART:20240331T010000
END:DAYLIGHT
BEGIN:STANDARD
TZOFFSETFROM:+0200
TZOFFSETTO:+0100
TZNAME:CET
DTSTART:20241027T010000
END:STANDARD
END:VTIMEZONE
BEGIN:VEVENT
DTSTART;TZID=Europe/Paris:20241122T203000
DTEND;TZID=Europe/Paris:20241122T233000
DTSTAMP:20260424T233618
CREATED:20240626T142331Z
LAST-MODIFIED:20240821T093409Z
UID:1552-1732307400-1732318200@jazzsurlegrill.com
SUMMARY:Bada-Bada et Mab'ish closing party DJ set
DESCRIPTION:BADA-BADA\nUn mélange explosif entre les claviers et synthétiseurs\, le lyrisme du saxophone et de la trompette\, le tout soutenu par un subtil mélange entre les sons acoustiques et électroniques de la batterie. \nL’utilisation de nombreux outils contemporains permet au groupe de trouver des chemins inhabituels\, encore peu utilisés. Un important travail de recherche sonore et de textures les mène régulièrement à travailler et à créer tous les trois ensembles. \n \nDJ set : Mab’ish\nIsabelle Clarençon alias MAB’ISH est une artiste multidisciplinaire qui aime mélanger les arts\, allant de la danse à la musique\, en passant par les arts visuels. Musicienne passionnée\, Mab’ish a débuté le DJing en 2014 et a mixé dans la plupart des grands clubs parisiens et dans le monde entier. Elle est particulièrement connue pour sa grande énergie lorsqu’elle mixe et elle aime jouer différents styles de musique : hip-hop\, soul\, jazz\, house et Broken Beat.
URL:https://jazzsurlegrill.com/event/bada-bada-et-mabish-closing-party-dj-set/
LOCATION:La Cordo\, CITÉ DE LA MUSIQUE\, 3 QUAI SAINTE CLAIRE\, ROMANS SUR ISERE\, 26100
CATEGORIES:Concert,Evénement
ATTACH;FMTTYPE=image/jpeg:https://jazzsurlegrill.com/wp-content/uploads/2024/06/bada-Bada-©-Justine-Abitbol-scaled.jpg
END:VEVENT
END:VCALENDAR