BEGIN:VCALENDAR
VERSION:2.0
PRODID:-//Jazz sur le Grill ! - ECPv5.12.3//NONSGML v1.0//EN
CALSCALE:GREGORIAN
METHOD:PUBLISH
X-WR-CALNAME:Jazz sur le Grill !
X-ORIGINAL-URL:https://jazzsurlegrill.com
X-WR-CALDESC:évènements pour Jazz sur le Grill !
REFRESH-INTERVAL;VALUE=DURATION:PT1H
X-Robots-Tag:noindex
X-PUBLISHED-TTL:PT1H
BEGIN:VTIMEZONE
TZID:Europe/Paris
BEGIN:DAYLIGHT
TZOFFSETFROM:+0100
TZOFFSETTO:+0200
TZNAME:CEST
DTSTART:20240331T010000
END:DAYLIGHT
BEGIN:STANDARD
TZOFFSETFROM:+0200
TZOFFSETTO:+0100
TZNAME:CET
DTSTART:20241027T010000
END:STANDARD
END:VTIMEZONE
BEGIN:VEVENT
DTSTART;TZID=Europe/Paris:20241201T110000
DTEND;TZID=Europe/Paris:20241201T113000
DTSTAMP:20260424T232616
CREATED:20240912T100026Z
LAST-MODIFIED:20241008T122156Z
UID:1602-1733050800-1733052600@jazzsurlegrill.com
SUMMARY:Such Sweet Thunder - brunch Jazz sur le Grill !
DESCRIPTION:Une relecture de la musique de Duke Ellington\nDécouvrez une relecture de la musique de Duke Ellington et plus précisément de son album inspire de l’œuvre de Shakespeare Such Sweet Thunder. \nLe disque se compose de 12 morceaux\, chacun étant liés à des personnages Shakespeariens\, Othello\, Jules César\, Henry V\, Lady Macbeth\, Roméo et Juliette… C’est l’une des œuvres les plus époustouflantes de la carrière du compositeur\, selon le journaliste de jazz Alex Dutilh. \nSous la direction artistique de Pascal Berne et autour de l’ensemble valentinois Le Big Montplaisir Music un appel à participation sera proposé à tous les musicien(ne)s amateurs Drômois (et plus)\, constituant ainsi un grand orchestre pour un programme adapté de cette œuvre majeure du compositeur américain. \n \nConcert assis à l’Auditorium de La Cordo\, Cité de la Musique à Romans \nDeux séances : à 11h ou à 14h \nDurée 35 minutes \nEntrée libre \n  \nCélébrez la clôture de Jazz sur le Grill ! avec un brunch\nPossibilité d’accompagner le concert d’un délicieux brunch \nAssortiment de 4 mets salés (option végétarienne) + 5 mets sucrés + 1 café à 12 €\, en réservant via notre billetterie  \n  \n 
URL:https://jazzsurlegrill.com/event/such-sweet-thunder-brunch-jazz-sur-le-grill/
LOCATION:La Cordo\, CITÉ DE LA MUSIQUE\, 3 QUAI SAINTE CLAIRE\, ROMANS SUR ISERE\, 26100
CATEGORIES:Concert,Evénement
ATTACH;FMTTYPE=image/png:https://jazzsurlegrill.com/wp-content/uploads/2024/09/flamme-neutre.png
END:VEVENT
END:VCALENDAR