BEGIN:VCALENDAR
VERSION:2.0
PRODID:-//Jazz sur le Grill ! - ECPv5.12.3//NONSGML v1.0//EN
CALSCALE:GREGORIAN
METHOD:PUBLISH
X-WR-CALNAME:Jazz sur le Grill !
X-ORIGINAL-URL:https://jazzsurlegrill.com
X-WR-CALDESC:évènements pour Jazz sur le Grill !
REFRESH-INTERVAL;VALUE=DURATION:PT1H
X-Robots-Tag:noindex
X-PUBLISHED-TTL:PT1H
BEGIN:VTIMEZONE
TZID:Europe/Paris
BEGIN:DAYLIGHT
TZOFFSETFROM:+0100
TZOFFSETTO:+0200
TZNAME:CEST
DTSTART:20260329T010000
END:DAYLIGHT
BEGIN:STANDARD
TZOFFSETFROM:+0200
TZOFFSETTO:+0100
TZNAME:CET
DTSTART:20261025T010000
END:STANDARD
END:VTIMEZONE
BEGIN:VEVENT
DTSTART;TZID=Europe/Paris:20260326T200000
DTEND;TZID=Europe/Paris:20260326T200000
DTSTAMP:20260421T122048
CREATED:20260121T092241Z
LAST-MODIFIED:20260127T142547Z
UID:1687-1774555200-1774555200@jazzsurlegrill.com
SUMMARY:MOUNAM SINGS NINA SIMONE
DESCRIPTION:Mounam Sings Nina Simone\nMounam sings Nina Simone s’adresse à toutes celles et ceux qui veulent (re)découvrir le répertoire d’une des plus grandes musiciennes de notre temps. \nSandra Mounam\, chanteuse de jazz\, blues\, gospel\, se produit depuis plusieurs années sur des scènes nationales et internationales au sein de différents groupes. \nAujourd’hui\, tout en continuant ses projets de compositions et The Dynamics\, elle initie le projet hommage à Nina Simone. \nAccompagnée d’une équipe fidèle\, Sandra Mounam emprunte la musique de Nina Simone et entend à son tour y insuffler son âme et faire partager le répertoire d’une artiste intemporelle. \nSandra Mounam (chant)\, Sandrine Marchetti (piano)\, Fanny Bouteiller (contrebasse) et Nicolas Thé (batterie). \n \nOrganisé par Crest Jazz
URL:https://jazzsurlegrill.com/event/mounam-sings-nina-simone/
LOCATION:Cinéma Éden\, 2 quai Bérangier de la Blache\, Crest
CATEGORIES:Concert,Evénement
ATTACH;FMTTYPE=image/jpeg:https://jazzsurlegrill.com/wp-content/uploads/2026/01/Photo-Robe-pagne-1-HD-scaled.jpg
END:VEVENT
END:VCALENDAR